BEGIN:VCALENDAR
VERSION:2.0
PRODID:-//Aviron Décinois - ECPv6.15.13//NONSGML v1.0//EN
CALSCALE:GREGORIAN
METHOD:PUBLISH
X-ORIGINAL-URL:https://avirondecinois.fr
X-WR-CALDESC:Évènements pour Aviron Décinois
REFRESH-INTERVAL;VALUE=DURATION:PT1H
X-Robots-Tag:noindex
X-PUBLISHED-TTL:PT1H
BEGIN:VTIMEZONE
TZID:Europe/Paris
BEGIN:DAYLIGHT
TZOFFSETFROM:+0100
TZOFFSETTO:+0200
TZNAME:CEST
DTSTART:20210328T010000
END:DAYLIGHT
BEGIN:STANDARD
TZOFFSETFROM:+0200
TZOFFSETTO:+0100
TZNAME:CET
DTSTART:20211031T010000
END:STANDARD
BEGIN:DAYLIGHT
TZOFFSETFROM:+0100
TZOFFSETTO:+0200
TZNAME:CEST
DTSTART:20220327T010000
END:DAYLIGHT
BEGIN:STANDARD
TZOFFSETFROM:+0200
TZOFFSETTO:+0100
TZNAME:CET
DTSTART:20221030T010000
END:STANDARD
BEGIN:DAYLIGHT
TZOFFSETFROM:+0100
TZOFFSETTO:+0200
TZNAME:CEST
DTSTART:20230326T010000
END:DAYLIGHT
BEGIN:STANDARD
TZOFFSETFROM:+0200
TZOFFSETTO:+0100
TZNAME:CET
DTSTART:20231029T010000
END:STANDARD
END:VTIMEZONE
BEGIN:VEVENT
DTSTART;TZID=Europe/Paris:20220409T080000
DTEND;TZID=Europe/Paris:20220409T170000
DTSTAMP:20260425T173316
CREATED:20220212T055839Z
LAST-MODIFIED:20220314T094655Z
UID:8885-1649491200-1649523600@avirondecinois.fr
SUMMARY:Journée sensibilisation handicap
DESCRIPTION:
URL:https://avirondecinois.fr/calendrier/journee-sensibilisation-handicap/
LOCATION:Aviron Décinois
CATEGORIES:événements
END:VEVENT
BEGIN:VEVENT
DTSTART;TZID=Europe/Paris:20220409T113000
DTEND;TZID=Europe/Paris:20220409T130000
DTSTAMP:20260425T173316
CREATED:20220311T194824Z
LAST-MODIFIED:20220313T160513Z
UID:8921-1649503800-1649509200@avirondecinois.fr
SUMMARY:Réception Champions de France
DESCRIPTION:
URL:https://avirondecinois.fr/calendrier/reception-champion-de-france/
LOCATION:Aviron Décinois
CATEGORIES:événements
END:VEVENT
BEGIN:VEVENT
DTSTART;TZID=Europe/Paris:20220424T070000
DTEND;TZID=Europe/Paris:20220424T130000
DTSTAMP:20260425T173316
CREATED:20220212T055953Z
LAST-MODIFIED:20220212T055953Z
UID:8887-1650783600-1650805200@avirondecinois.fr
SUMMARY:Animation Kiosque de Décines
DESCRIPTION:
URL:https://avirondecinois.fr/calendrier/animation-kiosque-de-decines/
CATEGORIES:événements
END:VEVENT
BEGIN:VEVENT
DTSTART;TZID=Europe/Paris:20220430T130000
DTEND;TZID=Europe/Paris:20220430T160000
DTSTAMP:20260425T173316
CREATED:20220212T060101Z
LAST-MODIFIED:20220212T060113Z
UID:8889-1651323600-1651334400@avirondecinois.fr
SUMMARY:Marche Propre // Clean Walk 5ème édition
DESCRIPTION:
URL:https://avirondecinois.fr/calendrier/marche-propre-clean-walk-5eme-edition/
LOCATION:Aviron Décinois
CATEGORIES:Clean Walk
END:VEVENT
END:VCALENDAR