BEGIN:VCALENDAR
VERSION:2.0
PRODID:-//Aviron Décinois - ECPv6.15.13//NONSGML v1.0//EN
CALSCALE:GREGORIAN
METHOD:PUBLISH
X-WR-CALNAME:Aviron Décinois
X-ORIGINAL-URL:https://avirondecinois.fr
X-WR-CALDESC:Évènements pour Aviron Décinois
REFRESH-INTERVAL;VALUE=DURATION:PT1H
X-Robots-Tag:noindex
X-PUBLISHED-TTL:PT1H
BEGIN:VTIMEZONE
TZID:Europe/Paris
BEGIN:DAYLIGHT
TZOFFSETFROM:+0100
TZOFFSETTO:+0200
TZNAME:CEST
DTSTART:20210328T010000
END:DAYLIGHT
BEGIN:STANDARD
TZOFFSETFROM:+0200
TZOFFSETTO:+0100
TZNAME:CET
DTSTART:20211031T010000
END:STANDARD
BEGIN:DAYLIGHT
TZOFFSETFROM:+0100
TZOFFSETTO:+0200
TZNAME:CEST
DTSTART:20220327T010000
END:DAYLIGHT
BEGIN:STANDARD
TZOFFSETFROM:+0200
TZOFFSETTO:+0100
TZNAME:CET
DTSTART:20221030T010000
END:STANDARD
BEGIN:DAYLIGHT
TZOFFSETFROM:+0100
TZOFFSETTO:+0200
TZNAME:CEST
DTSTART:20230326T010000
END:DAYLIGHT
BEGIN:STANDARD
TZOFFSETFROM:+0200
TZOFFSETTO:+0100
TZNAME:CET
DTSTART:20231029T010000
END:STANDARD
END:VTIMEZONE
BEGIN:VEVENT
DTSTART;TZID=Europe/Paris:20220827T080000
DTEND;TZID=Europe/Paris:20220827T170000
DTSTAMP:20260423T192638
CREATED:20220601T085757Z
LAST-MODIFIED:20220601T085827Z
UID:9052-1661587200-1661619600@avirondecinois.fr
SUMMARY:Lac de vouglans
DESCRIPTION:35 Km\, inscription : Randonnée · Lac de Vouglans
URL:https://avirondecinois.fr/calendrier/lac-de-voulans/
CATEGORIES:Randonnée
END:VEVENT
END:VCALENDAR