BEGIN:VCALENDAR
VERSION:2.0
PRODID:-//Aviron Décinois - ECPv6.15.13//NONSGML v1.0//EN
CALSCALE:GREGORIAN
METHOD:PUBLISH
X-ORIGINAL-URL:https://avirondecinois.fr
X-WR-CALDESC:Évènements pour Aviron Décinois
REFRESH-INTERVAL;VALUE=DURATION:PT1H
X-Robots-Tag:noindex
X-PUBLISHED-TTL:PT1H
BEGIN:VTIMEZONE
TZID:Europe/Paris
BEGIN:DAYLIGHT
TZOFFSETFROM:+0100
TZOFFSETTO:+0200
TZNAME:CEST
DTSTART:20220327T010000
END:DAYLIGHT
BEGIN:STANDARD
TZOFFSETFROM:+0200
TZOFFSETTO:+0100
TZNAME:CET
DTSTART:20221030T010000
END:STANDARD
BEGIN:DAYLIGHT
TZOFFSETFROM:+0100
TZOFFSETTO:+0200
TZNAME:CEST
DTSTART:20230326T010000
END:DAYLIGHT
BEGIN:STANDARD
TZOFFSETFROM:+0200
TZOFFSETTO:+0100
TZNAME:CET
DTSTART:20231029T010000
END:STANDARD
BEGIN:DAYLIGHT
TZOFFSETFROM:+0100
TZOFFSETTO:+0200
TZNAME:CEST
DTSTART:20240331T010000
END:DAYLIGHT
BEGIN:STANDARD
TZOFFSETFROM:+0200
TZOFFSETTO:+0100
TZNAME:CET
DTSTART:20241027T010000
END:STANDARD
END:VTIMEZONE
BEGIN:VEVENT
DTSTART;VALUE=DATE:20230401
DTEND;VALUE=DATE:20230403
DTSTAMP:20260423T065414
CREATED:20221201T203915Z
LAST-MODIFIED:20221201T203915Z
UID:9347-1680307200-1680479999@avirondecinois.fr
SUMMARY:Randonnée le jardin de la Mer
DESCRIPTION:(Sète – Hérault)\n\n\n \n\n55 km/ 180 €   –   15 places maximum – priorité aux rameurs n’ayant pas pu le faire l’an dernier\nhttps://avirondecinois1928.yaentrainement.fr/events/16818850
URL:https://avirondecinois.fr/calendrier/randonnee-le-jardin-de-la-mer/
CATEGORIES:Randonnée
END:VEVENT
END:VCALENDAR