BEGIN:VCALENDAR
VERSION:2.0
PRODID:-//Aviron Décinois - ECPv6.15.13//NONSGML v1.0//EN
CALSCALE:GREGORIAN
METHOD:PUBLISH
X-WR-CALNAME:Aviron Décinois
X-ORIGINAL-URL:https://avirondecinois.fr
X-WR-CALDESC:Évènements pour Aviron Décinois
REFRESH-INTERVAL;VALUE=DURATION:PT1H
X-Robots-Tag:noindex
X-PUBLISHED-TTL:PT1H
BEGIN:VTIMEZONE
TZID:Europe/Paris
BEGIN:DAYLIGHT
TZOFFSETFROM:+0100
TZOFFSETTO:+0200
TZNAME:CEST
DTSTART:20220327T010000
END:DAYLIGHT
BEGIN:STANDARD
TZOFFSETFROM:+0200
TZOFFSETTO:+0100
TZNAME:CET
DTSTART:20221030T010000
END:STANDARD
BEGIN:DAYLIGHT
TZOFFSETFROM:+0100
TZOFFSETTO:+0200
TZNAME:CEST
DTSTART:20230326T010000
END:DAYLIGHT
BEGIN:STANDARD
TZOFFSETFROM:+0200
TZOFFSETTO:+0100
TZNAME:CET
DTSTART:20231029T010000
END:STANDARD
BEGIN:DAYLIGHT
TZOFFSETFROM:+0100
TZOFFSETTO:+0200
TZNAME:CEST
DTSTART:20240331T010000
END:DAYLIGHT
BEGIN:STANDARD
TZOFFSETFROM:+0200
TZOFFSETTO:+0100
TZNAME:CET
DTSTART:20241027T010000
END:STANDARD
END:VTIMEZONE
BEGIN:VEVENT
DTSTART;VALUE=DATE:20230820
DTEND;VALUE=DATE:20230827
DTSTAMP:20260423T004653
CREATED:20221201T204724Z
LAST-MODIFIED:20221201T204724Z
UID:9359-1692489600-1693094399@avirondecinois.fr
SUMMARY:Randonnée Canal du Midi à Sète
DESCRIPTION:Pour 1 équipage prévoir 6 à 7 personnes 210 km / 600€\n      Randonnée · du canal du Midi à Sète 
URL:https://avirondecinois.fr/calendrier/randonnee-canal-du-midi-a-sete/
CATEGORIES:Randonnée
END:VEVENT
BEGIN:VEVENT
DTSTART;VALUE=DATE:20230826
DTEND;VALUE=DATE:20230827
DTSTAMP:20260423T004653
CREATED:20221201T204829Z
LAST-MODIFIED:20221201T204829Z
UID:9361-1693008000-1693094399@avirondecinois.fr
SUMMARY:Randonnée Lac du Vouglans
DESCRIPTION:35 km / 80€\n      Randonnée · Lac du Vouglans 
URL:https://avirondecinois.fr/calendrier/randonnee-lac-du-vouglans/
CATEGORIES:Randonnée
END:VEVENT
END:VCALENDAR